BEGIN:VCALENDAR
VERSION:2.0
PRODID:-//Salam100 - La mejor sala de música en directo - ECPv6.15.12.2//NONSGML v1.0//EN
CALSCALE:GREGORIAN
METHOD:PUBLISH
X-ORIGINAL-URL:https://www.salam100.com
X-WR-CALDESC:Eventos para Salam100 - La mejor sala de música en directo
REFRESH-INTERVAL;VALUE=DURATION:PT1H
X-Robots-Tag:noindex
X-PUBLISHED-TTL:PT1H
BEGIN:VTIMEZONE
TZID:Europe/Madrid
BEGIN:DAYLIGHT
TZOFFSETFROM:+0100
TZOFFSETTO:+0200
TZNAME:CEST
DTSTART:20250330T010000
END:DAYLIGHT
BEGIN:STANDARD
TZOFFSETFROM:+0200
TZOFFSETTO:+0100
TZNAME:CET
DTSTART:20251026T010000
END:STANDARD
BEGIN:DAYLIGHT
TZOFFSETFROM:+0100
TZOFFSETTO:+0200
TZNAME:CEST
DTSTART:20260329T010000
END:DAYLIGHT
BEGIN:STANDARD
TZOFFSETFROM:+0200
TZOFFSETTO:+0100
TZNAME:CET
DTSTART:20261025T010000
END:STANDARD
BEGIN:DAYLIGHT
TZOFFSETFROM:+0100
TZOFFSETTO:+0200
TZNAME:CEST
DTSTART:20270328T010000
END:DAYLIGHT
BEGIN:STANDARD
TZOFFSETFROM:+0200
TZOFFSETTO:+0100
TZNAME:CET
DTSTART:20271031T010000
END:STANDARD
END:VTIMEZONE
BEGIN:VEVENT
DTSTART;TZID=Europe/Madrid:20260606T200000
DTEND;TZID=Europe/Madrid:20260606T235900
DTSTAMP:20260420T002009
CREATED:20260315T075158Z
LAST-MODIFIED:20260406T160007Z
UID:3179-1780776000-1780790340@www.salam100.com
SUMMARY:SAMUEL SLZR
DESCRIPTION:🎟️ Comprar Entradas\n \n \n  \n\n\nSobre el Evento\n\n\n\n\n\n\nSAMUEL SLZR ANUNCIA NUEVA GIRA POR SALAS EN ESPAÑA EN 2026  \nSamuel SLZR anuncia una nueva gira por salas españolas en 2026.  \nEl tour\, organizado por Zoom Music y W Management con la colaboración de LOS40 Urban como emisora oficial\, pasará por A Coruña (15 de mayo\, Sala Pantalán)\, Gijón (16 de mayo\, Sala Buddha)\, Granada (22 de mayo\, Sala El Tren)\, Sevilla (23 de mayo\, Sala Custom)\, Málaga (5 de junio\, Sala Paris 15) y Córdoba (6 de junio\, Sala M100). Las entradas estarán disponibles el miércoles 18 de marzo en zoommusic.es y Vivaticket.  \nNacido en Lloret de Mar (Girona)\, Samuel SLZR comenzó su relación con la música a los 8 años y hoy se posiciona como una de las propuestas emergentes del urbano independiente en España. Su estilo fusiona trap\, rap y reguetón con influencias de flamenco y sonidos de barrio\, con letras directas y personales.  \nEntre sus trabajos más destacados se encuentra “Sad-muel”\, un proyecto centrado en vivencias emocionales que ha reforzado su conexión con el público. A lo largo de su carrera también ha colaborado con artistas como RVFV\, Soto Asa o Metrika.  \nSu propuesta se basa en la autenticidad y la honestidad artística\, algo que se refleja también en su crecimiento en plataformas digitales\, donde acumula cientos de miles de oyentes mensuales y varios temas que superan el millón de reproducciones. 
URL:https://www.salam100.com/eventos/samuel-slzr-2/
END:VEVENT
BEGIN:VEVENT
DTSTART;TZID=Europe/Madrid:20260627T190000
DTEND;TZID=Europe/Madrid:20260627T235900
DTSTAMP:20260420T002009
CREATED:20260208T082746Z
LAST-MODIFIED:20260227T092404Z
UID:3088-1782586800-1782604740@www.salam100.com
SUMMARY:SIEMPRE LUIS MIGUEL\, EL TRIBUTO
DESCRIPTION:🎟️ Comprar Entradas\n \n \n\n\nSobre el Evento\n\n\n\nLa Sala M100 se viste de gala para recibir un espectáculo único\, vibrante y lleno de emoción. “SIEMPRE LUIS MIGUEL” con Xandro Leima\, es un homenaje impecable al Sol de México que celebra su música\, su energía incomparable y su legado en la historia de la balada y el pop latino. \nPrepárense para viajar a través de las décadas con una selección de sus mayores éxitos: desde las clásicas baladas que han marcado a generaciones\, hasta los ritmos latinos que nos invitan a cantar y bailar. Cada interpretación ha sido cuidadosamente trabajada para recrear la esencia\, el estilo y la elegancia que caracterizan a Luis Miguel\, ofreciendo una experiencia que hará sentir al público como si estuviera frente al artista original. \nDisfruten de esta velada hecha para los verdaderos fans\, donde la pasión\, la música en vivo y la nostalgia se unen para rendir tributo a una de las voces más emblemáticas del mundo hispano. \n“SIEMPRE LUIS MIGUEL”. El próximo 27 de JUNIO de 2026\, no te pierdas esta cita única.
URL:https://www.salam100.com/eventos/siempre-luis-miguel-el-tributo-2/
END:VEVENT
END:VCALENDAR