BEGIN:VCALENDAR
VERSION:2.0
PRODID:-//Salam100 - La mejor sala de música en directo - ECPv6.15.12.2//NONSGML v1.0//EN
CALSCALE:GREGORIAN
METHOD:PUBLISH
X-ORIGINAL-URL:https://www.salam100.com
X-WR-CALDESC:Eventos para Salam100 - La mejor sala de música en directo
REFRESH-INTERVAL;VALUE=DURATION:PT1H
X-Robots-Tag:noindex
X-PUBLISHED-TTL:PT1H
BEGIN:VTIMEZONE
TZID:Europe/Madrid
BEGIN:DAYLIGHT
TZOFFSETFROM:+0100
TZOFFSETTO:+0200
TZNAME:CEST
DTSTART:20250330T010000
END:DAYLIGHT
BEGIN:STANDARD
TZOFFSETFROM:+0200
TZOFFSETTO:+0100
TZNAME:CET
DTSTART:20251026T010000
END:STANDARD
BEGIN:DAYLIGHT
TZOFFSETFROM:+0100
TZOFFSETTO:+0200
TZNAME:CEST
DTSTART:20260329T010000
END:DAYLIGHT
BEGIN:STANDARD
TZOFFSETFROM:+0200
TZOFFSETTO:+0100
TZNAME:CET
DTSTART:20261025T010000
END:STANDARD
BEGIN:DAYLIGHT
TZOFFSETFROM:+0100
TZOFFSETTO:+0200
TZNAME:CEST
DTSTART:20270328T010000
END:DAYLIGHT
BEGIN:STANDARD
TZOFFSETFROM:+0200
TZOFFSETTO:+0100
TZNAME:CET
DTSTART:20271031T010000
END:STANDARD
END:VTIMEZONE
BEGIN:VEVENT
DTSTART;TZID=Europe/Madrid:20260508T200000
DTEND;TZID=Europe/Madrid:20260508T235900
DTSTAMP:20260420T003940
CREATED:20260208T103907Z
LAST-MODIFIED:20260315T103304Z
UID:3100-1778270400-1778284740@www.salam100.com
SUMMARY:TRIBUTO A LOS CHICHOS. NI MÁS NI MENOS
DESCRIPTION:🎟️ Comprar Entradas\n \n \n \n\n\nSobre el Evento\nRevive la esencia más auténtica de la rumba y el sonido callejero que marcó a generaciones. Ni Más Ni Menos es un emocionante tributo a Los Chichos\, un viaje directo al corazón de sus canciones más míticas\, esas que hablan de barrio\, de amor\, de vida y de verdad. \nSobre el escenario\, la energía\, la pasión y el respeto por el legado de Los Chichos se transforman en un espectáculo vibrante\, cargado de recuerdos y emociones. Un concierto para cantar\, sentir y dejarse llevar por temas inolvidables como Quiero ser libre\, Ni más ni menos\, Son ilusiones y muchos más. \nSi creciste con su música o si quieres descubrir por qué Los Chichos siguen siendo historia viva\, este concierto es para ti. \nRumba\, sentimiento y nostalgia en estado puro. \n🎶 No es solo un tributo\, es una experiencia.\n🎟️ Compra ya tu entrada y no te quedes fuera. \n8 de mayo – SALA M100 \n\n\n 
URL:https://www.salam100.com/eventos/tributo-a-los-chichos-ni-mas-ni-menos/
END:VEVENT
END:VCALENDAR